BEGIN:VCALENDAR
VERSION:2.0
PRODID:-//Idaho Steelheads//idahosteelheads.com//EN
CALSCALE:GREGORIAN
BEGIN:VEVENT
UID:https://idahosteelheads.com/games/2026/05/02/allen-americans
DTSTAMP:20260420T132040Z
SUMMARY:Idaho Steelheads @ Allen Americans
DTSTART;TZID=Canada/Central:20260502T191000
DTEND;TZID=Canada/Central:20260502T221000
DESCRIPTION:Idaho Steelheads at Allen Americans
LOCATION:Credit Union of Texas Event Center\, Allen\, Texas
URL;VALUE=URI:https://idahosteelheads.com/games/2026/05/02/allen-americans
END:VEVENT
END:VCALENDAR
