BEGIN:VCALENDAR
VERSION:2.0
PRODID:-//Idaho Steelheads//idahosteelheads.com//EN
CALSCALE:GREGORIAN
BEGIN:VEVENT
UID:https://idahosteelheads.com/games/2026/04/28/game-5-if-necessary
DTSTAMP:20260422T101559Z
SUMMARY:* Game 5 if necessary *
DTSTART;TZID=Canada/Mountain:20260428T191000
DTEND;TZID=Canada/Mountain:20260428T221000
DESCRIPTION:Allen Americans at Idaho Steelheads
LOCATION:Idaho Central Arena\, Boise\, Idaho
URL;VALUE=URI:https://idahosteelheads.com/games/2026/04/28/game-5-if-necess
 ary
END:VEVENT
END:VCALENDAR
