BEGIN:VCALENDAR
VERSION:2.0
PRODID:-//Idaho Steelheads//idahosteelheads.com//EN
CALSCALE:GREGORIAN
BEGIN:VEVENT
UID:https://idahosteelheads.com/games/2026/04/27/allen-americans
DTSTAMP:20260420T043716Z
SUMMARY:Allen Americans @ Idaho Steelheads
DTSTART;TZID=Canada/Mountain:20260427T191000
DTEND;TZID=Canada/Mountain:20260427T221000
DESCRIPTION:Allen Americans at Idaho Steelheads
LOCATION:Idaho Central Arena\, Boise\, Idaho
URL;VALUE=URI:https://idahosteelheads.com/games/2026/04/27/allen-americans
END:VEVENT
END:VCALENDAR
