BEGIN:VCALENDAR
VERSION:2.0
PRODID:-//Idaho Steelheads//idahosteelheads.com//EN
CALSCALE:GREGORIAN
BEGIN:VEVENT
UID:https://idahosteelheads.com/games/2026/04/26/allen-americans
DTSTAMP:20260420T044136Z
SUMMARY:Allen Americans @ Idaho Steelheads
DTSTART;TZID=Canada/Mountain:20260426T161000
DTEND;TZID=Canada/Mountain:20260426T191000
DESCRIPTION:Allen Americans at Idaho Steelheads
LOCATION:Idaho Central Arena\, Boise\, Idaho
URL;VALUE=URI:https://idahosteelheads.com/games/2026/04/26/allen-americans
END:VEVENT
END:VCALENDAR
