BEGIN:VCALENDAR
VERSION:2.0
PRODID:-//Idaho Steelheads//idahosteelheads.com//EN
CALSCALE:GREGORIAN
BEGIN:VEVENT
UID:https://idahosteelheads.com/games/2026/04/24/allen-americans
DTSTAMP:20260422T084035Z
SUMMARY:Idaho Steelheads @ Allen Americans
DTSTART;TZID=Canada/Central:20260424T191000
DTEND;TZID=Canada/Central:20260424T221000
DESCRIPTION:Idaho Steelheads at Allen Americans
LOCATION:Credit Union of Texas Event Center\, Allen\, Texas
URL;VALUE=URI:https://idahosteelheads.com/games/2026/04/24/allen-americans
END:VEVENT
END:VCALENDAR
